BEGIN:VCALENDAR
VERSION:2.0
PRODID:-//ROD SEVERNI KURIR - ECPv6.15.12.2//NONSGML v1.0//EN
CALSCALE:GREGORIAN
METHOD:PUBLISH
X-WR-CALNAME:ROD SEVERNI KURIR
X-ORIGINAL-URL:https://rsktaborniki.si
X-WR-CALDESC:Dogodki za ROD SEVERNI KURIR
REFRESH-INTERVAL;VALUE=DURATION:PT1H
X-Robots-Tag:noindex
X-PUBLISHED-TTL:PT1H
BEGIN:VTIMEZONE
TZID:Europe/Ljubljana
BEGIN:DAYLIGHT
TZOFFSETFROM:+0100
TZOFFSETTO:+0200
TZNAME:CEST
DTSTART:20220327T010000
END:DAYLIGHT
BEGIN:STANDARD
TZOFFSETFROM:+0200
TZOFFSETTO:+0100
TZNAME:CET
DTSTART:20221030T010000
END:STANDARD
BEGIN:DAYLIGHT
TZOFFSETFROM:+0100
TZOFFSETTO:+0200
TZNAME:CEST
DTSTART:20230326T010000
END:DAYLIGHT
BEGIN:STANDARD
TZOFFSETFROM:+0200
TZOFFSETTO:+0100
TZNAME:CET
DTSTART:20231029T010000
END:STANDARD
BEGIN:DAYLIGHT
TZOFFSETFROM:+0100
TZOFFSETTO:+0200
TZNAME:CEST
DTSTART:20240331T010000
END:DAYLIGHT
BEGIN:STANDARD
TZOFFSETFROM:+0200
TZOFFSETTO:+0100
TZNAME:CET
DTSTART:20241027T010000
END:STANDARD
END:VTIMEZONE
BEGIN:VEVENT
DTSTART;TZID=Europe/Ljubljana:20230416T100000
DTEND;TZID=Europe/Ljubljana:20230416T140000
DTSTAMP:20260419T230240
CREATED:20230404T105724Z
LAST-MODIFIED:20230404T105724Z
UID:2478-1681639200-1681653600@rsktaborniki.si
SUMMARY:Čisitlna akcija 2023
DESCRIPTION:Na prelomu pomladi vabimo vse naravoljube\, da se nam pridružijo na čistilni akciji po slovenjgraških gozdovih in pešpoteh\, ki je nastala v sodelovanju mladinskih društev mestne občine Slovenj Gradec.\nAkcija bo potekala na štirih trasah (Tičnica\, Dobrava\, Rahtel in S8). Zbrali se bomo pred Habitatom (Partizanska pot 12)\, od koder bomo v skupinah nadaljevali našo čistilno pot. Čiščenje našega prelepega mesta in njegove okolice bomo zaključili pred MKC Slovenj Gradec okoli 14.00\, kjer nas bo pričakalo kosilo za vse udeležence (za kosilo je obvezna predhodna prijava oziroma izpolnitev obrazca).\n \nzbor: 10:00 (Partizanska pot 12)\nkosilo: 14:00 (Mkc Slovenj Gradec)\n \nZaradi lažje organizacije vas prosimo\, da izpolnite obrazec na sledeči povezavi:\nhttps://docs.google.com/…/1FAIpQLScTWq8lMTcpS0…/viewform\n \nVeselimo se druženja z vami. Mladi za boljši jutri!\n#TabornikiUstvarjmoBoljšiSvet
URL:https://rsktaborniki.si/index.php/e/cisitlna-akcija-2023/
LOCATION:Slovenj Gradec\, Partizanska pot 12
END:VEVENT
END:VCALENDAR